Workbook

Sheet ENERO2021
A1: DEPARTAMENTO NORTE DE SANTANDER
A2: MUNICIPIO LA PLAYA DE BELEN
A3: ESE HOSPITAL ISABEL CELIS YAÑEZ
A4: EJECUCIÓN PRESUPUESTAL DE GASTOS
A5: MES: ENERO DE 2021
R6: En Pesos Corrientes
A7: CODIGO | B7: CONCEPTO | C7: PRESUPUESTO | I7: COMPROMISOS | L7: OBLIGACIONES | O7: PAGOS | R7: SALDO PRESUPUEST. | S7: SALDO CTAS X PAGAR
C8: INICIAL | D8: ADICION | F8: REDUCCION | H8: DEFINITIVO | I8: MES ANTER. | J8: DEL MES | K8: TOTAL | L8: MES ANTER. | M8: DEL MES | N8: TOTAL | O8: MES ANTER. | P8: DEL MES | Q8: TOTAL
D9: INGRESO | E9: TRASLADO | F9: REDUCCION | G9: TRASLADO
A10: A | B10: B | C10: C | D10: D | E10: E | H10: F=C+D-E | I10: G | J10: H | K10: I=G+H | L10: J | M10: K | N10: L=J+K | O10: M | P10: N | Q10: O=M+N | R10: P=F-I | S10: Q=L-O
A11: 2 | B11: GASTOS | C11: =+C12+C184+C197+C204+C210 -> 1576096667 | D11: =+D12+D184+D197+D204+D210 -> 85559253 | E11: =+E12+E184+E197+E204+E210 -> 0 | F11: =+F12+F184+F197+F204+F210 -> 0 | G11: =+G12+G184+G197+G204+G210 -> 0 | H11: =+C11+D11+E11-F11-G11 -> 1.6616559e+09 | J11: =+J12+J184+J197+J204+J210 -> 8.2712069e+08 | K11: =+I11+J11 -> 8.2712069e+08 | M11: =+M12+M184+M197+M204+M210 -> 79002374 | N11: =+L11+M11 -> 79002374 | P11: =+P12+P184+P197+P204+P210 -> 79002374 | Q11: =+O11+P11 -> 79002374 | R11: =+H11-K11 -> 8.3453523e+08 | S11: =+N11-Q11 -> 0 | T11: 42936166 | U11: =+S11-T11 -> -42936166
A12: 21 | B12: GASTOS DE FUNCIONAMIENTO | C12: =+C13+C120+C173 -> 1406096667 | D12: =+D13+D120+D173 -> 51921188 | E12: =+E13+E120+E173 -> 0 | F12: =+F13+F120+F173 -> 0 | G12: =+G13+G120+G173 -> 0 | H12: =+C12+D12+E12-F12-G12 -> 1458017855 | J12: =+J13+J120+J173 -> 8.2008259e+08 | K12: =+I12+J12 -> 8.2008259e+08 | M12: =+M13+M120+M173 -> 71964274 | N12: =+L12+M12 -> 71964274 | P12: =+P13+P120+P173 -> 71964274 | Q12: =+O12+P12 -> 71964274 | R12: =+H12-K12 -> 6.3793527e+08 | S12: =+N12-Q12 -> 0
A13: 211 | B13: GASTOS DE PERSONAL | C13: =+C14+C66 -> 1065286557 | D13: =+D14+D66 -> 0 | E13: =+E14+E66 -> 0 | F13: =+F14+F66 -> 0 | G13: =+G14+G66 -> 0 | H13: =+C13+D13+E13-F13-G13 -> 1065286557 | J13: =+J14+J66 -> 747872160 | K13: =+I13+J13 -> 747872160 | M13: =+M14+M66 -> 66934920 | N13: =+L13+M13 -> 66934920 | P13: =+P14+P66 -> 66934920 | Q13: =+O13+P13 -> 66934920 | R13: =+H13-K13 -> 317414397 | S13: =+N13-Q13 -> 0
A14: 2111 | B14: GASTOS DE ADMINISTRACION | C14: =+C15+C35+C39+C51 -> 499866954 | D14: =+D15+D35+D39+D51 -> 0 | E14: =+E15+E35+E39+E51 -> 0 | F14: =+F15+F35+F39+F51 -> 0 | G14: =+G15+G35+G39+G51 -> 0 | H14: =+C14+D14+E14-F14-G14 -> 499866954 | J14: =+J15+J35+J39+J51 -> 295606632 | K14: =+I14+J14 -> 295606632 | M14: =+M15+M35+M39+M51 -> 22327352 | N14: =+L14+M14 -> 22327352 | P14: =+P15+P35+P39+P51 -> 22327352 | Q14: =+O14+P14 -> 22327352 | R14: =+H14-K14 -> 204260322 | S14: =+N14-Q14 -> 0
A15: 211101 | B15: SERVICIOS PERSONALES ASOC A LA NOMINA | C15: =+C16+C17+C18+C19 -> 103041789 | D15: =+D16+D17+D18+D19 -> 0 | E15: =+E16+E17+E18+E19 -> 0 | F15: =+F16+F17+F18+F19 -> 0 | G15: =+G16+G17+G18+G19 -> 0 | H15: =+C15+D15+E15-F15-G15 -> 103041789 | J15: =+J16+J17+J18+J19 -> 7309300 | K15: =+I15+J15 -> 7309300 | M15: =+M16+M17+M18+M19 -> 7309300 | N15: =+L15+M15 -> 7309300 | P15: =+P16+P17+P18+P19 -> 7309300 | Q15: =+O15+P15 -> 7309300 | R15: =+H15-K15 -> 95732489 | S15: =+N15-Q15 -> 0
A16: 21110101 | B16: SUELDO | C16: 78560400 | H16: =+C16+D16+E16-F16-G16 -> 78560400 | J16: 6546700 | K16: =+I16+J16 -> 6546700 | M16: 6546700 | N16: =+L16+M16 -> 6546700 | P16: 6546700 | Q16: =+O16+P16 -> 6546700 | R16: =+H16-K16 -> 72013700 | S16: =+N16-Q16 -> 0
A17: 21110102 | B17: HORAS EXTRAS,FEST-RECARGO NOCTURNO | H17: =+C17+D17+E17-F17-G17 -> 0 | K17: =+I17+J17 -> 0 | N17: =+L17+M17 -> 0 | Q17: =+O17+P17 -> 0 | R17: =+H17-K17 -> 0 | S17: =+N17-Q17 -> 0
A18: 21110103 | B18: PRIMA TECNICA | H18: =+C18+D18+E18-F18-G18 -> 0 | K18: =+I18+J18 -> 0 | N18: =+L18+M18 -> 0 | Q18: =+O18+P18 -> 0 | R18: =+H18-K18 -> 0 | S18: =+N18-Q18 -> 0
A19: 21110104 | B19: OTROS | C19: =SUM(C20:C33) -> 24481389 | D19: =SUM(D20:D33) -> 0 | E19: =SUM(E20:E33) -> 0 | F19: =SUM(F20:F33) -> 0 | G19: =SUM(G20:G33) -> 0 | H19: =+C19+D19+E19-F19-G19 -> 24481389 | J19: =SUM(J20:J33) -> 762600 | K19: =+I19+J19 -> 762600 | M19: =SUM(M20:M33) -> 762600 | N19: =+L19+M19 -> 762600 | P19: =SUM(P20:P33) -> 762600 | Q19: =+O19+P19 -> 762600 | R19: =+H19-K19 -> 23718789 | S19: =+N19-Q19 -> 0
A20: 2111010401 | B20: INDEMNIZACION POR VACACIONES | C20: 4800913 | H20: =+C20+D20+E20-F20-G20 -> 4800913 | K20: =+I20+J20 -> 0 | N20: =+L20+M20 -> 0 | Q20: =+O20+P20 -> 0 | R20: =+H20-K20 -> 4800913 | S20: =+N20-Q20 -> 0
A21: 2111010402 | B21: GASTOS DE REPRESENTACION | C21: 9151200 | H21: =+C21+D21+E21-F21-G21 -> 9151200 | J21: 762600 | K21: =+I21+J21 -> 762600 | M21: 762600 | N21: =+L21+M21 -> 762600 | P21: 762600 | Q21: =+O21+P21 -> 762600 | R21: =+H21-K21 -> 8388600 | S21: =+N21-Q21 -> 0
A22: 2111010403 | B22: PRIMA DE VACACIONES | C22: 3273350 | H22: =+C22+D22+E22-F22-G22 -> 3273350 | K22: =+I22+J22 -> 0 | N22: =+L22+M22 -> 0 | Q22: =+O22+P22 -> 0 | R22: =+H22-K22 -> 3273350 | S22: =+N22-Q22 -> 0
A23: 2111010404 | B23: BONIFICACON POR SERVICIOS PRESTADOS | H23: =+C23+D23+E23-F23-G23 -> 0 | K23: =+I23+J23 -> 0 | N23: =+L23+M23 -> 0 | Q23: =+O23+P23 -> 0 | R23: =+H23-K23 -> 0 | S23: =+N23-Q23 -> 0
A24: 2111010405 | B24: BONIFICACION ESPECIAL POR RECREACION | C24: 436447 | H24: =+C24+D24+E24-F24-G24 -> 436447 | K24: =+I24+J24 -> 0 | N24: =+L24+M24 -> 0 | Q24: =+O24+P24 -> 0 | R24: =+H24-K24 -> 436447 | S24: =+N24-Q24 -> 0
A25: 2111010406 | B25: PRIMA DE SERVICIOS | H25: =+C25+D25+E25-F25-G25 -> 0 | K25: =+I25+J25 -> 0 | N25: =+L25+M25 -> 0 | Q25: =+O25+P25 -> 0 | R25: =+H25-K25 -> 0 | S25: =+N25-Q25 -> 0
A26: 2111010407 | B26: PRIMA DE NAVIDAD | C26: 6819479 | H26: =+C26+D26+E26-F26-G26 -> 6819479 | K26: =+I26+J26 -> 0 | N26: =+L26+M26 -> 0 | Q26: =+O26+P26 -> 0 | R26: =+H26-K26 -> 6819479 | S26: =+N26-Q26 -> 0
A27: 2111010408 | B27: PRIMA DE ANTIGÜEDAD | H27: =+C27+D27+E27-F27-G27 -> 0 | K27: =+I27+J27 -> 0 | N27: =+L27+M27 -> 0 | Q27: =+O27+P27 -> 0 | R27: =+H27-K27 -> 0 | S27: =+N27-Q27 -> 0
A28: 2111010409 | B28: SUBSIDIO DE ALIMENTACION | H28: =+C28+D28+E28-F28-G28 -> 0 | K28: =+I28+J28 -> 0 | N28: =+L28+M28 -> 0 | Q28: =+O28+P28 -> 0 | R28: =+H28-K28 -> 0 | S28: =+N28-Q28 -> 0
A29: 2111010410 | B29: AUXILIO DE TRANSPORTE | H29: =+C29+D29+E29-F29-G29 -> 0 | K29: =+I29+J29 -> 0 | N29: =+L29+M29 -> 0 | Q29: =+O29+P29 -> 0 | R29: =+H29-K29 -> 0 | S29: =+N29-Q29 -> 0
A30: 2111010411 | B30: SUELDO 15% | H30: =+C30+D30+E30-F30-G30 -> 0 | K30: =+I30+J30 -> 0 | N30: =+L30+M30 -> 0 | Q30: =+O30+P30 -> 0 | R30: =+H30-K30 -> 0 | S30: =+N30-Q30 -> 0
A31: 2111010412 | B31: FACTORES DE SALARIO | H31: =+C31+D31+E31-F31-G31 -> 0 | K31: =+I31+J31 -> 0 | N31: =+L31+M31 -> 0 | Q31: =+O31+P31 -> 0 | R31: =+H31-K31 -> 0 | S31: =+N31-Q31 -> 0
A32: 2111010413 | B32: PRIMA DE 35% | H32: =+C32+D32+E32-F32-G32 -> 0 | K32: =+I32+J32 -> 0 | N32: =+L32+M32 -> 0 | Q32: =+O32+P32 -> 0 | R32: =+H32-K32 -> 0 | S32: =+N32-Q32 -> 0
A33: 2111010414 | B33: OTROS | C33: =+C34 -> 0 | D33: =+D34 -> 0 | E33: =+E34 -> 0 | F33: =+F34 -> 0 | G33: =+G34 -> 0 | H33: =+C33+D33+E33-F33-G33 -> 0 | J33: =+J34 -> 0 | K33: =+I33+J33 -> 0 | M33: =+M34 -> 0 | N33: =+L33+M33 -> 0 | P33: =+P34 -> 0 | Q33: =+O33+P33 -> 0 | R33: =+H33-K33 -> 0 | S33: =+N33-Q33 -> 0
A34: 211101041401 | B34: DOTACION | H34: =+C34+D34+E34-F34-G34 -> 0 | K34: =+I34+J34 -> 0 | N34: =+L34+M34 -> 0 | Q34: =+O34+P34 -> 0 | R34: =+H34-K34 -> 0 | S34: =+N34-Q34 -> 0
A35: 211102 | B35: SERVICIOS PERSONALES INDIRECTOS | C35: =SUM(C36:C38) -> 364958624 | D35: =SUM(D36:D38) -> 0 | E35: =SUM(E36:E38) -> 0 | F35: =SUM(F36:F38) -> 0 | G35: =SUM(G36:G38) -> 0 | H35: =+C35+D35+E35-F35-G35 -> 364958624 | J35: =SUM(J36:J38) -> 286331312 | K35: =+I35+J35 -> 286331312 | M35: =SUM(M36:M38) -> 15018052 | N35: =+L35+M35 -> 15018052 | P35: =SUM(P36:P38) -> 15018052 | Q35: =+O35+P35 -> 15018052 | R35: =+H35-K35 -> 78627312 | S35: =+N35-Q35 -> 0
A36: 21110201 | B36: SUPERNUMERARIO | H36: =+C36+D36+E36-F36-G36 -> 0 | K36: =+I36+J36 -> 0 | N36: =+L36+M36 -> 0 | Q36: =+O36+P36 -> 0 | R36: =+H36-K36 -> 0 | S36: =+N36-Q36 -> 0
A37: 21110202 | B37: REMUNERACION POR SERVICIOS TECNICOS | C37: 114324624 | H37: =+C37+D37+E37-F37-G37 -> 114324624 | J37: 99402312 | K37: =+I37+J37 -> 99402312 | M37: 9527052 | N37: =+L37+M37 -> 9527052 | P37: 9527052 | Q37: =+O37+P37 -> 9527052 | R37: =+H37-K37 -> 14922312 | S37: =+N37-Q37 -> 0
A38: 21110203 | B38: HONORARIOS | C38: 250634000 | H38: =+C38+D38+E38-F38-G38 -> 250634000 | J38: 186929000 | K38: =+I38+J38 -> 186929000 | M38: 5491000 | N38: =+L38+M38 -> 5491000 | P38: 5491000 | Q38: =+O38+P38 -> 5491000 | R38: =+H38-K38 -> 63705000 | S38: =+N38-Q38 -> 0
A39: 211103 | B39: CONTRIBUCIONES NOMINA SECTOR PRIVADO | C39: =+C40+C45 -> 9822720 | D39: =+D40+D45 -> 0 | E39: =+E40+E45 -> 0 | F39: =+F40+F45 -> 0 | G39: =+G40+G45 -> 0 | H39: =+C39+D39+E39-F39-G39 -> 9822720 | J39: =+J40+J45 -> 818560 | K39: =+I39+J39 -> 818560 | M39: =+M40+M45 -> 0 | N39: =+L39+M39 -> 0 | P39: =+P40+P45 -> 0 | Q39: =+O39+P39 -> 0 | R39: =+H39-K39 -> 9004160 | S39: =+N39-Q39 -> 0
A40: 21110301 | B40: CONTRIBUCIONES NOMINA SECTOR PRIVADO SISTEMA GENERAL DE PARTICIPACIONES | C40: =SUM(C41:C44) -> 0 | D40: =SUM(D41:D44) -> 0 | E40: =SUM(E41:E44) -> 0 | F40: =SUM(F41:F44) -> 0 | G40: =SUM(G41:G44) -> 0 | H40: =+C40+D40+E40-F40-G40 -> 0 | J40: =SUM(J41:J44) -> 0 | K40: =+I40+J40 -> 0 | M40: =SUM(M41:M44) -> 0 | N40: =+L40+M40 -> 0 | P40: =SUM(P41:P44) -> 0 | Q40: =+O40+P40 -> 0 | R40: =+H40-K40 -> 0 | S40: =+N40-Q40 -> 0
...

Sheet FEBRERO2021
A1: DEPARTAMENTO NORTE DE SANTANDER
A2: MUNICIPIO LA PLAYA DE BELEN
A3: ESE HOSPITAL ISABEL CELIS YAÑEZ
A4: EJECUCIÓN PRESUPUESTAL DE GASTOS
A5: MES: FEBRERO DE 2021
R6: En Pesos Corrientes
A7: CODIGO | B7: CONCEPTO | C7: PRESUPUESTO | I7: COMPROMISOS | L7: OBLIGACIONES | O7: PAGOS | R7: SALDO PRESUPUEST. | S7: SALDO CTAS X PAGAR
C8: INICIAL | D8: ADICION | F8: REDUCCION | H8: DEFINITIVO | I8: MES ANTER. | J8: DEL MES | K8: TOTAL | L8: MES ANTER. | M8: DEL MES | N8: TOTAL | O8: MES ANTER. | P8: DEL MES | Q8: TOTAL
D9: INGRESO | E9: TRASLADO | F9: REDUCCION | G9: TRASLADO
A10: A | B10: B | C10: C | D10: D | E10: E | H10: F=C+D-E | I10: G | J10: H | K10: I=G+H | L10: J | M10: K | N10: L=J+K | O10: M | P10: N | Q10: O=M+N | R10: P=F-I | S10: Q=L-O
A11: 2 | B11: GASTOS | C11: =+C12+C184+C197+C204+C210 -> 1576096667 | D11: =+D12+D184+D197+D204+D210 -> 85559253 | E11: =+E12+E184+E197+E204+E210 -> 25604000 | F11: =+F12+F184+F197+F204+F210 -> 0 | G11: =+G12+G184+G197+G204+G210 -> 25604000 | H11: =+C11+D11+E11-F11-G11 -> 1.6616559e+09 | I11: =+ENERO2021!K11 -> 8.2712069e+08 | J11: =+J12+J184+J197+J204+J210 -> 115914411 | K11: =+I11+J11 -> 9.430351e+08 | L11: =+ENERO2021!N11 -> 79002374 | M11: =+M12+M184+M197+M204+M210 -> 106484963 | N11: =+L11+M11 -> 1.8548734e+08 | O11: =+ENERO2021!Q11 -> 79002374 | P11: =+P12+P184+P197+P204+P210 -> 106484963 | Q11: =+O11+P11 -> 1.8548734e+08 | R11: =+H11-K11 -> 7.1862082e+08 | S11: =+N11-Q11 -> 0 | T11: 42936166 | U11: =+S11-T11 -> -42936166
A12: 21 | B12: GASTOS DE FUNCIONAMIENTO | C12: =+C13+C120+C173 -> 1406096667 | D12: =+D13+D120+D173 -> 51921188 | E12: =+E13+E120+E173 -> 25604000 | F12: =+F13+F120+F173 -> 0 | G12: =+G13+G120+G173 -> 25604000 | H12: =+C12+D12+E12-F12-G12 -> 1458017855 | I12: =+ENERO2021!K12 -> 8.2008259e+08 | J12: =+J13+J120+J173 -> 83318988 | K12: =+I12+J12 -> 9.0340157e+08 | L12: =+ENERO2021!N12 -> 71964274 | M12: =+M13+M120+M173 -> 94160190 | N12: =+L12+M12 -> 1.6612446e+08 | O12: =+ENERO2021!Q12 -> 71964274 | P12: =+P13+P120+P173 -> 94160190 | Q12: =+O12+P12 -> 1.6612446e+08 | R12: =+H12-K12 -> 5.5461628e+08 | S12: =+N12-Q12 -> 0
A13: 211 | B13: GASTOS DE PERSONAL | C13: =+C14+C66 -> 1065286557 | D13: =+D14+D66 -> 0 | E13: =+E14+E66 -> 25604000 | F13: =+F14+F66 -> 0 | G13: =+G14+G66 -> 20604000 | H13: =+C13+D13+E13-F13-G13 -> 1070286557 | I13: =+ENERO2021!K13 -> 747872160 | J13: =+J14+J66 -> 55055848 | K13: =+I13+J13 -> 802928008 | L13: =+ENERO2021!N13 -> 66934920 | M13: =+M14+M66 -> 88211900 | N13: =+L13+M13 -> 155146820 | O13: =+ENERO2021!Q13 -> 66934920 | P13: =+P14+P66 -> 88211900 | Q13: =+O13+P13 -> 155146820 | R13: =+H13-K13 -> 267358549 | S13: =+N13-Q13 -> 0
A14: 2111 | B14: GASTOS DE ADMINISTRACION | C14: =+C15+C35+C39+C51 -> 499866954 | D14: =+D15+D35+D39+D51 -> 0 | E14: =+E15+E35+E39+E51 -> 0 | F14: =+F15+F35+F39+F51 -> 0 | G14: =+G15+G35+G39+G51 -> 20604000 | H14: =+C14+D14+E14-F14-G14 -> 479262954 | I14: =+ENERO2021!K14 -> 295606632 | J14: =+J15+J35+J39+J51 -> 39715320 | K14: =+I14+J14 -> 335321952 | L14: =+ENERO2021!N14 -> 22327352 | M14: =+M15+M35+M39+M51 -> 30410372 | N14: =+L14+M14 -> 52737724 | O14: =+ENERO2021!Q14 -> 22327352 | P14: =+P15+P35+P39+P51 -> 30410372 | Q14: =+O14+P14 -> 52737724 | R14: =+H14-K14 -> 143941002 | S14: =+N14-Q14 -> 0
A15: 211101 | B15: SERVICIOS PERSONALES ASOC A LA NOMINA | C15: =+C16+C17+C18+C19 -> 103041789 | D15: =+D16+D17+D18+D19 -> 0 | E15: =+E16+E17+E18+E19 -> 0 | F15: =+F16+F17+F18+F19 -> 0 | G15: =+G16+G17+G18+G19 -> 0 | H15: =+C15+D15+E15-F15-G15 -> 103041789 | I15: =+ENERO2021!K15 -> 7309300 | J15: =+J16+J17+J18+J19 -> 7309300 | K15: =+I15+J15 -> 14618600 | L15: =+ENERO2021!N15 -> 7309300 | M15: =+M16+M17+M18+M19 -> 7309300 | N15: =+L15+M15 -> 14618600 | O15: =+ENERO2021!Q15 -> 7309300 | P15: =+P16+P17+P18+P19 -> 7309300 | Q15: =+O15+P15 -> 14618600 | R15: =+H15-K15 -> 88423189 | S15: =+N15-Q15 -> 0
A16: 21110101 | B16: SUELDO | C16: 78560400 | H16: =+C16+D16+E16-F16-G16 -> 78560400 | I16: =+ENERO2021!K16 -> 6546700 | J16: 6546700 | K16: =+I16+J16 -> 13093400 | L16: =+ENERO2021!N16 -> 6546700 | M16: 6546700 | N16: =+L16+M16 -> 13093400 | O16: =+ENERO2021!Q16 -> 6546700 | P16: 6546700 | Q16: =+O16+P16 -> 13093400 | R16: =+H16-K16 -> 65467000 | S16: =+N16-Q16 -> 0
A17: 21110102 | B17: HORAS EXTRAS,FEST-RECARGO NOCTURNO | H17: =+C17+D17+E17-F17-G17 -> 0 | I17: =+ENERO2021!K17 -> 0 | K17: =+I17+J17 -> 0 | L17: =+ENERO2021!N17 -> 0 | N17: =+L17+M17 -> 0 | O17: =+ENERO2021!Q17 -> 0 | Q17: =+O17+P17 -> 0 | R17: =+H17-K17 -> 0 | S17: =+N17-Q17 -> 0
A18: 21110103 | B18: PRIMA TECNICA | H18: =+C18+D18+E18-F18-G18 -> 0 | I18: =+ENERO2021!K18 -> 0 | K18: =+I18+J18 -> 0 | L18: =+ENERO2021!N18 -> 0 | N18: =+L18+M18 -> 0 | O18: =+ENERO2021!Q18 -> 0 | Q18: =+O18+P18 -> 0 | R18: =+H18-K18 -> 0 | S18: =+N18-Q18 -> 0
A19: 21110104 | B19: OTROS | C19: =SUM(C20:C33) -> 24481389 | D19: =SUM(D20:D33) -> 0 | E19: =SUM(E20:E33) -> 0 | F19: =SUM(F20:F33) -> 0 | G19: =SUM(G20:G33) -> 0 | H19: =+C19+D19+E19-F19-G19 -> 24481389 | I19: =+ENERO2021!K19 -> 762600 | J19: =SUM(J20:J33) -> 762600 | K19: =+I19+J19 -> 1525200 | L19: =+ENERO2021!N19 -> 762600 | M19: =SUM(M20:M33) -> 762600 | N19: =+L19+M19 -> 1525200 | O19: =+ENERO2021!Q19 -> 762600 | P19: =SUM(P20:P33) -> 762600 | Q19: =+O19+P19 -> 1525200 | R19: =+H19-K19 -> 22956189 | S19: =+N19-Q19 -> 0
A20: 2111010401 | B20: INDEMNIZACION POR VACACIONES | C20: 4800913 | H20: =+C20+D20+E20-F20-G20 -> 4800913 | I20: =+ENERO2021!K20 -> 0 | K20: =+I20+J20 -> 0 | L20: =+ENERO2021!N20 -> 0 | N20: =+L20+M20 -> 0 | O20: =+ENERO2021!Q20 -> 0 | Q20: =+O20+P20 -> 0 | R20: =+H20-K20 -> 4800913 | S20: =+N20-Q20 -> 0
A21: 2111010402 | B21: GASTOS DE REPRESENTACION | C21: 9151200 | H21: =+C21+D21+E21-F21-G21 -> 9151200 | I21: =+ENERO2021!K21 -> 762600 | J21: 762600 | K21: =+I21+J21 -> 1525200 | L21: =+ENERO2021!N21 -> 762600 | M21: 762600 | N21: =+L21+M21 -> 1525200 | O21: =+ENERO2021!Q21 -> 762600 | P21: 762600 | Q21: =+O21+P21 -> 1525200 | R21: =+H21-K21 -> 7626000 | S21: =+N21-Q21 -> 0
A22: 2111010403 | B22: PRIMA DE VACACIONES | C22: 3273350 | H22: =+C22+D22+E22-F22-G22 -> 3273350 | I22: =+ENERO2021!K22 -> 0 | K22: =+I22+J22 -> 0 | L22: =+ENERO2021!N22 -> 0 | N22: =+L22+M22 -> 0 | O22: =+ENERO2021!Q22 -> 0 | Q22: =+O22+P22 -> 0 | R22: =+H22-K22 -> 3273350 | S22: =+N22-Q22 -> 0
A23: 2111010404 | B23: BONIFICACON POR SERVICIOS PRESTADOS | H23: =+C23+D23+E23-F23-G23 -> 0 | I23: =+ENERO2021!K23 -> 0 | K23: =+I23+J23 -> 0 | L23: =+ENERO2021!N23 -> 0 | N23: =+L23+M23 -> 0 | O23: =+ENERO2021!Q23 -> 0 | Q23: =+O23+P23 -> 0 | R23: =+H23-K23 -> 0 | S23: =+N23-Q23 -> 0
A24: 2111010405 | B24: BONIFICACION ESPECIAL POR RECREACION | C24: 436447 | H24: =+C24+D24+E24-F24-G24 -> 436447 | I24: =+ENERO2021!K24 -> 0 | K24: =+I24+J24 -> 0 | L24: =+ENERO2021!N24 -> 0 | N24: =+L24+M24 -> 0 | O24: =+ENERO2021!Q24 -> 0 | Q24: =+O24+P24 -> 0 | R24: =+H24-K24 -> 436447 | S24: =+N24-Q24 -> 0
A25: 2111010406 | B25: PRIMA DE SERVICIOS | H25: =+C25+D25+E25-F25-G25 -> 0 | I25: =+ENERO2021!K25 -> 0 | K25: =+I25+J25 -> 0 | L25: =+ENERO2021!N25 -> 0 | N25: =+L25+M25 -> 0 | O25: =+ENERO2021!Q25 -> 0 | Q25: =+O25+P25 -> 0 | R25: =+H25-K25 -> 0 | S25: =+N25-Q25 -> 0
A26: 2111010407 | B26: PRIMA DE NAVIDAD | C26: 6819479 | H26: =+C26+D26+E26-F26-G26 -> 6819479 | I26: =+ENERO2021!K26 -> 0 | K26: =+I26+J26 -> 0 | L26: =+ENERO2021!N26 -> 0 | N26: =+L26+M26 -> 0 | O26: =+ENERO2021!Q26 -> 0 | Q26: =+O26+P26 -> 0 | R26: =+H26-K26 -> 6819479 | S26: =+N26-Q26 -> 0
A27: 2111010408 | B27: PRIMA DE ANTIGÜEDAD | H27: =+C27+D27+E27-F27-G27 -> 0 | I27: =+ENERO2021!K27 -> 0 | K27: =+I27+J27 -> 0 | L27: =+ENERO2021!N27 -> 0 | N27: =+L27+M27 -> 0 | O27: =+ENERO2021!Q27 -> 0 | Q27: =+O27+P27 -> 0 | R27: =+H27-K27 -> 0 | S27: =+N27-Q27 -> 0
A28: 2111010409 | B28: SUBSIDIO DE ALIMENTACION | H28: =+C28+D28+E28-F28-G28 -> 0 | I28: =+ENERO2021!K28 -> 0 | K28: =+I28+J28 -> 0 | L28: =+ENERO2021!N28 -> 0 | N28: =+L28+M28 -> 0 | O28: =+ENERO2021!Q28 -> 0 | Q28: =+O28+P28 -> 0 | R28: =+H28-K28 -> 0 | S28: =+N28-Q28 -> 0
A29: 2111010410 | B29: AUXILIO DE TRANSPORTE | H29: =+C29+D29+E29-F29-G29 -> 0 | I29: =+ENERO2021!K29 -> 0 | K29: =+I29+J29 -> 0 | L29: =+ENERO2021!N29 -> 0 | N29: =+L29+M29 -> 0 | O29: =+ENERO2021!Q29 -> 0 | Q29: =+O29+P29 -> 0 | R29: =+H29-K29 -> 0 | S29: =+N29-Q29 -> 0
A30: 2111010411 | B30: SUELDO 15% | H30: =+C30+D30+E30-F30-G30 -> 0 | I30: =+ENERO2021!K30 -> 0 | K30: =+I30+J30 -> 0 | L30: =+ENERO2021!N30 -> 0 | N30: =+L30+M30 -> 0 | O30: =+ENERO2021!Q30 -> 0 | Q30: =+O30+P30 -> 0 | R30: =+H30-K30 -> 0 | S30: =+N30-Q30 -> 0
A31: 2111010412 | B31: FACTORES DE SALARIO | H31: =+C31+D31+E31-F31-G31 -> 0 | I31: =+ENERO2021!K31 -> 0 | K31: =+I31+J31 -> 0 | L31: =+ENERO2021!N31 -> 0 | N31: =+L31+M31 -> 0 | O31: =+ENERO2021!Q31 -> 0 | Q31: =+O31+P31 -> 0 | R31: =+H31-K31 -> 0 | S31: =+N31-Q31 -> 0
A32: 2111010413 | B32: PRIMA DE 35% | H32: =+C32+D32+E32-F32-G32 -> 0 | I32: =+ENERO2021!K32 -> 0 | K32: =+I32+J32 -> 0 | L32: =+ENERO2021!N32 -> 0 | N32: =+L32+M32 -> 0 | O32: =+ENERO2021!Q32 -> 0 | Q32: =+O32+P32 -> 0 | R32: =+H32-K32 -> 0 | S32: =+N32-Q32 -> 0
A33: 2111010414 | B33: OTROS | C33: =+C34 -> 0 | D33: =+D34 -> 0 | E33: =+E34 -> 0 | F33: =+F34 -> 0 | G33: =+G34 -> 0 | H33: =+C33+D33+E33-F33-G33 -> 0 | I33: =+ENERO2021!K33 -> 0 | J33: =+J34 -> 0 | K33: =+I33+J33 -> 0 | L33: =+ENERO2021!N33 -> 0 | M33: =+M34 -> 0 | N33: =+L33+M33 -> 0 | O33: =+ENERO2021!Q33 -> 0 | P33: =+P34 -> 0 | Q33: =+O33+P33 -> 0 | R33: =+H33-K33 -> 0 | S33: =+N33-Q33 -> 0
A34: 211101041401 | B34: DOTACION | H34: =+C34+D34+E34-F34-G34 -> 0 | I34: =+ENERO2021!K34 -> 0 | K34: =+I34+J34 -> 0 | L34: =+ENERO2021!N34 -> 0 | N34: =+L34+M34 -> 0 | O34: =+ENERO2021!Q34 -> 0 | Q34: =+O34+P34 -> 0 | R34: =+H34-K34 -> 0 | S34: =+N34-Q34 -> 0
A35: 211102 | B35: SERVICIOS PERSONALES INDIRECTOS | C35: =SUM(C36:C38) -> 364958624 | D35: =SUM(D36:D38) -> 0 | E35: =SUM(E36:E38) -> 0 | F35: =SUM(F36:F38) -> 0 | G35: =SUM(G36:G38) -> 20604000 | H35: =+C35+D35+E35-F35-G35 -> 344354624 | I35: =+ENERO2021!K35 -> 286331312 | J35: =SUM(J36:J38) -> 30440000 | K35: =+I35+J35 -> 316771312 | L35: =+ENERO2021!N35 -> 15018052 | M35: =SUM(M36:M38) -> 21135052 | N35: =+L35+M35 -> 36153104 | O35: =+ENERO2021!Q35 -> 15018052 | P35: =SUM(P36:P38) -> 21135052 | Q35: =+O35+P35 -> 36153104 | R35: =+H35-K35 -> 27583312 | S35: =+N35-Q35 -> 0
A36: 21110201 | B36: SUPERNUMERARIO | H36: =+C36+D36+E36-F36-G36 -> 0 | I36: =+ENERO2021!K36 -> 0 | K36: =+I36+J36 -> 0 | L36: =+ENERO2021!N36 -> 0 | N36: =+L36+M36 -> 0 | O36: =+ENERO2021!Q36 -> 0 | Q36: =+O36+P36 -> 0 | R36: =+H36-K36 -> 0 | S36: =+N36-Q36 -> 0
A37: 21110202 | B37: REMUNERACION POR SERVICIOS TECNICOS | C37: 114324624 | G37: 14404000 | H37: =+C37+D37+E37-F37-G37 -> 99920624 | I37: =+ENERO2021!K37 -> 99402312 | J37: 0 | K37: =+I37+J37 -> 99402312 | L37: =+ENERO2021!N37 -> 9527052 | M37: 9527052 | N37: =+L37+M37 -> 19054104 | O37: =+ENERO2021!Q37 -> 9527052 | P37: 9527052 | Q37: =+O37+P37 -> 19054104 | R37: =+H37-K37 -> 518312 | S37: =+N37-Q37 -> 0
A38: 21110203 | B38: HONORARIOS | C38: 250634000 | G38: 6200000 | H38: =+C38+D38+E38-F38-G38 -> 244434000 | I38: =+ENERO2021!K38 -> 186929000 | J38: 30440000 | K38: =+I38+J38 -> 217369000 | L38: =+ENERO2021!N38 -> 5491000 | M38: 11608000 | N38: =+L38+M38 -> 17099000 | O38: =+ENERO2021!Q38 -> 5491000 | P38: 11608000 | Q38: =+O38+P38 -> 17099000 | R38: =+H38-K38 -> 27065000 | S38: =+N38-Q38 -> 0
A39: 211103 | B39: CONTRIBUCIONES NOMINA SECTOR PRIVADO | C39: =+C40+C45 -> 9822720 | D39: =+D40+D45 -> 0 | E39: =+E40+E45 -> 0 | F39: =+F40+F45 -> 0 | G39: =+G40+G45 -> 0 | H39: =+C39+D39+E39-F39-G39 -> 9822720 | I39: =+ENERO2021!K39 -> 818560 | J39: =+J40+J45 -> 818560 | K39: =+I39+J39 -> 1637120 | L39: =+ENERO2021!N39 -> 0 | M39: =+M40+M45 -> 818560 | N39: =+L39+M39 -> 818560 | O39: =+ENERO2021!Q39 -> 0 | P39: =+P40+P45 -> 818560 | Q39: =+O39+P39 -> 818560 | R39: =+H39-K39 -> 8185600 | S39: =+N39-Q39 -> 0
A40: 21110301 | B40: CONTRIBUCIONES NOMINA SECTOR PRIVADO SISTEMA GENERAL DE PARTICIPACIONES | C40: =SUM(C41:C44) -> 0 | D40: =SUM(D41:D44) -> 0 | E40: =SUM(E41:E44) -> 0 | F40: =SUM(F41:F44) -> 0 | G40: =SUM(G41:G44) -> 0 | H40: =+C40+D40+E40-F40-G40 -> 0 | I40: =+ENERO2021!K40 -> 0 | J40: =SUM(J41:J44) -> 0 | K40: =+I40+J40 -> 0 | L40: =+ENERO2021!N40 -> 0 | M40: =SUM(M41:M44) -> 0 | N40: =+L40+M40 -> 0 | O40: =+ENERO2021!Q40 -> 0 | P40: =SUM(P41:P44) -> 0 | Q40: =+O40+P40 -> 0 | R40: =+H40-K40 -> 0 | S40: =+N40-Q40 -> 0
...

Sheet MARZO2021
A1: DEPARTAMENTO NORTE DE SANTANDER
A2: MUNICIPIO LA PLAYA DE BELEN
A3: ESE HOSPITAL ISABEL CELIS YAÑEZ
A4: EJECUCIÓN PRESUPUESTAL DE GASTOS
A5: MES: MARZO DE 2021
R6: En Pesos Corrientes
A7: CODIGO | B7: CONCEPTO | C7: PRESUPUESTO | I7: COMPROMISOS | L7: OBLIGACIONES | O7: PAGOS | R7: SALDO PRESUPUEST. | S7: SALDO CTAS X PAGAR
C8: INICIAL | D8: ADICION | F8: REDUCCION | H8: DEFINITIVO | I8: MES ANTER. | J8: DEL MES | K8: TOTAL | L8: MES ANTER. | M8: DEL MES | N8: TOTAL | O8: MES ANTER. | P8: DEL MES | Q8: TOTAL
D9: INGRESO | E9: TRASLADO | F9: REDUCCION | G9: TRASLADO
A10: A | B10: B | C10: C | D10: D | E10: E | H10: F=C+D-E | I10: G | J10: H | K10: I=G+H | L10: J | M10: K | N10: L=J+K | O10: M | P10: N | Q10: O=M+N | R10: P=F-I | S10: Q=L-O
A11: 2 | B11: GASTOS | C11: =+C12+C184+C197+C204+C210 -> 1576096667 | D11: =+D12+D184+D197+D204+D210 -> 1.7206961e+08 | E11: =+E12+E184+E197+E204+E210 -> 25604000 | F11: =+F12+F184+F197+F204+F210 -> 0 | G11: =+G12+G184+G197+G204+G210 -> 25604000 | H11: =+C11+D11+E11-F11-G11 -> 1.7481663e+09 | I11: =+FEBRERO2021!K11 -> 9.430351e+08 | J11: =+J12+J184+J197+J204+J210 -> 240720724 | K11: =+I11+J11 -> 1.1837558e+09 | L11: =+FEBRERO2021!N11 -> 1.8548734e+08 | M11: =+M12+M184+M197+M204+M210 -> 286972965 | N11: =+L11+M11 -> 4.724603e+08 | O11: =+FEBRERO2021!Q11 -> 1.8548734e+08 | P11: =+P12+P184+P197+P204+P210 -> 226210760 | Q11: =+O11+P11 -> 4.116981e+08 | R11: =+H11-K11 -> 5.6441046e+08 | S11: =+N11-Q11 -> 60762205 | T11: 42936166 | U11: =+S11-T11 -> 17826039
A12: 21 | B12: GASTOS DE FUNCIONAMIENTO | C12: =+C13+C120+C173 -> 1406096667 | D12: =+D13+D120+D173 -> 1.069389e+08 | E12: =+E13+E120+E173 -> 25604000 | F12: =+F13+F120+F173 -> 0 | G12: =+G13+G120+G173 -> 25604000 | H12: =+C12+D12+E12-F12-G12 -> 1.5130356e+09 | I12: =+FEBRERO2021!K12 -> 9.0340157e+08 | J12: =+J13+J120+J173 -> 148185442 | K12: =+I12+J12 -> 1.051587e+09 | L12: =+FEBRERO2021!N12 -> 1.6612446e+08 | M12: =+M13+M120+M173 -> 221511967 | N12: =+L12+M12 -> 3.8763643e+08 | O12: =+FEBRERO2021!Q12 -> 1.6612446e+08 | P12: =+P13+P120+P173 -> 160749762 | Q12: =+O12+P12 -> 3.2687423e+08 | R12: =+H12-K12 -> 4.6144856e+08 | S12: =+N12-Q12 -> 60762205
A13: 211 | B13: GASTOS DE PERSONAL | C13: =+C14+C66 -> 1065286557 | D13: =+D14+D66 -> 27313725 | E13: =+E14+E66 -> 25604000 | F13: =+F14+F66 -> 0 | G13: =+G14+G66 -> 20604000 | H13: =+C13+D13+E13-F13-G13 -> 1.0976003e+09 | I13: =+FEBRERO2021!K13 -> 802928008 | J13: =+J14+J66 -> 68450116 | K13: =+I13+J13 -> 871378124 | L13: =+FEBRERO2021!N13 -> 155146820 | M13: =+M14+M66 -> 137296373 | N13: =+L13+M13 -> 292443193 | O13: =+FEBRERO2021!Q13 -> 155146820 | P13: =+P14+P66 -> 128455356 | Q13: =+O13+P13 -> 283602176 | R13: =+H13-K13 -> 2.2622216e+08 | S13: =+N13-Q13 -> 8841017
A14: 2111 | B14: GASTOS DE ADMINISTRACION | C14: =+C15+C35+C39+C51 -> 499866954 | D14: =+D15+D35+D39+D51 -> 0 | E14: =+E15+E35+E39+E51 -> 0 | F14: =+F15+F35+F39+F51 -> 0 | G14: =+G15+G35+G39+G51 -> 20604000 | H14: =+C14+D14+E14-F14-G14 -> 479262954 | I14: =+FEBRERO2021!K14 -> 335321952 | J14: =+J15+J35+J39+J51 -> 35676440 | K14: =+I14+J14 -> 370998392 | L14: =+FEBRERO2021!N14 -> 52737724 | M14: =+M15+M35+M39+M51 -> 64858880 | N14: =+L14+M14 -> 117596604 | O14: =+FEBRERO2021!Q14 -> 52737724 | P14: =+P15+P35+P39+P51 -> 59179392 | Q14: =+O14+P14 -> 111917116 | R14: =+H14-K14 -> 108264562 | S14: =+N14-Q14 -> 5679488
A15: 211101 | B15: SERVICIOS PERSONALES ASOC A LA NOMINA | C15: =+C16+C17+C18+C19 -> 103041789 | D15: =+D16+D17+D18+D19 -> 0 | E15: =+E16+E17+E18+E19 -> 0 | F15: =+F16+F17+F18+F19 -> 0 | G15: =+G16+G17+G18+G19 -> 0 | H15: =+C15+D15+E15-F15-G15 -> 103041789 | I15: =+FEBRERO2021!K15 -> 14618600 | J15: =+J16+J17+J18+J19 -> 11141846 | K15: =+I15+J15 -> 25760446 | L15: =+FEBRERO2021!N15 -> 14618600 | M15: =+M16+M17+M18+M19 -> 11141846 | N15: =+L15+M15 -> 25760446 | O15: =+FEBRERO2021!Q15 -> 14618600 | P15: =+P16+P17+P18+P19 -> 7309300 | Q15: =+O15+P15 -> 21927900 | R15: =+H15-K15 -> 77281343 | S15: =+N15-Q15 -> 3832546
A16: 21110101 | B16: SUELDO | C16: 78560400 | H16: =+C16+D16+E16-F16-G16 -> 78560400 | I16: =+FEBRERO2021!K16 -> 13093400 | J16: 6546700 | K16: =+I16+J16 -> 19640100 | L16: =+FEBRERO2021!N16 -> 13093400 | M16: 6546700 | N16: =+L16+M16 -> 19640100 | O16: =+FEBRERO2021!Q16 -> 13093400 | P16: 6546700 | Q16: =+O16+P16 -> 19640100 | R16: =+H16-K16 -> 58920300 | S16: =+N16-Q16 -> 0
A17: 21110102 | B17: HORAS EXTRAS,FEST-RECARGO NOCTURNO | H17: =+C17+D17+E17-F17-G17 -> 0 | I17: =+FEBRERO2021!K17 -> 0 | K17: =+I17+J17 -> 0 | L17: =+FEBRERO2021!N17 -> 0 | N17: =+L17+M17 -> 0 | O17: =+FEBRERO2021!Q17 -> 0 | Q17: =+O17+P17 -> 0 | R17: =+H17-K17 -> 0 | S17: =+N17-Q17 -> 0
A18: 21110103 | B18: PRIMA TECNICA | H18: =+C18+D18+E18-F18-G18 -> 0 | I18: =+FEBRERO2021!K18 -> 0 | K18: =+I18+J18 -> 0 | L18: =+FEBRERO2021!N18 -> 0 | N18: =+L18+M18 -> 0 | O18: =+FEBRERO2021!Q18 -> 0 | Q18: =+O18+P18 -> 0 | R18: =+H18-K18 -> 0 | S18: =+N18-Q18 -> 0
A19: 21110104 | B19: OTROS | C19: =SUM(C20:C33) -> 24481389 | D19: =SUM(D20:D33) -> 0 | E19: =SUM(E20:E33) -> 0 | F19: =SUM(F20:F33) -> 0 | G19: =SUM(G20:G33) -> 0 | H19: =+C19+D19+E19-F19-G19 -> 24481389 | I19: =+FEBRERO2021!K19 -> 1525200 | J19: =SUM(J20:J33) -> 4595146 | K19: =+I19+J19 -> 6120346 | L19: =+FEBRERO2021!N19 -> 1525200 | M19: =SUM(M20:M33) -> 4595146 | N19: =+L19+M19 -> 6120346 | O19: =+FEBRERO2021!Q19 -> 1525200 | P19: =SUM(P20:P33) -> 762600 | Q19: =+O19+P19 -> 2287800 | R19: =+H19-K19 -> 18361043 | S19: =+N19-Q19 -> 3832546
A20: 2111010401 | B20: INDEMNIZACION POR VACACIONES | C20: 4800913 | H20: =+C20+D20+E20-F20-G20 -> 4800913 | I20: =+FEBRERO2021!K20 -> 0 | J20: 1200228 | K20: =+I20+J20 -> 1200228 | L20: =+FEBRERO2021!N20 -> 0 | M20: 1200228 | N20: =+L20+M20 -> 1200228 | O20: =+FEBRERO2021!Q20 -> 0 | Q20: =+O20+P20 -> 0 | R20: =+H20-K20 -> 3600685 | S20: =+N20-Q20 -> 1200228
A21: 2111010402 | B21: GASTOS DE REPRESENTACION | C21: 9151200 | H21: =+C21+D21+E21-F21-G21 -> 9151200 | I21: =+FEBRERO2021!K21 -> 1525200 | J21: 762600 | K21: =+I21+J21 -> 2287800 | L21: =+FEBRERO2021!N21 -> 1525200 | M21: 762600 | N21: =+L21+M21 -> 2287800 | O21: =+FEBRERO2021!Q21 -> 1525200 | P21: 762600 | Q21: =+O21+P21 -> 2287800 | R21: =+H21-K21 -> 6863400 | S21: =+N21-Q21 -> 0
A22: 2111010403 | B22: PRIMA DE VACACIONES | C22: 3273350 | H22: =+C22+D22+E22-F22-G22 -> 3273350 | I22: =+FEBRERO2021!K22 -> 0 | J22: 818337 | K22: =+I22+J22 -> 818337 | L22: =+FEBRERO2021!N22 -> 0 | M22: 818337 | N22: =+L22+M22 -> 818337 | O22: =+FEBRERO2021!Q22 -> 0 | Q22: =+O22+P22 -> 0 | R22: =+H22-K22 -> 2455013 | S22: =+N22-Q22 -> 818337
A23: 2111010404 | B23: BONIFICACON POR SERVICIOS PRESTADOS | H23: =+C23+D23+E23-F23-G23 -> 0 | I23: =+FEBRERO2021!K23 -> 0 | K23: =+I23+J23 -> 0 | L23: =+FEBRERO2021!N23 -> 0 | N23: =+L23+M23 -> 0 | O23: =+FEBRERO2021!Q23 -> 0 | Q23: =+O23+P23 -> 0 | R23: =+H23-K23 -> 0 | S23: =+N23-Q23 -> 0
A24: 2111010405 | B24: BONIFICACION ESPECIAL POR RECREACION | C24: 436447 | H24: =+C24+D24+E24-F24-G24 -> 436447 | I24: =+FEBRERO2021!K24 -> 0 | J24: 109112 | K24: =+I24+J24 -> 109112 | L24: =+FEBRERO2021!N24 -> 0 | M24: 109112 | N24: =+L24+M24 -> 109112 | O24: =+FEBRERO2021!Q24 -> 0 | Q24: =+O24+P24 -> 0 | R24: =+H24-K24 -> 327335 | S24: =+N24-Q24 -> 109112
A25: 2111010406 | B25: PRIMA DE SERVICIOS | H25: =+C25+D25+E25-F25-G25 -> 0 | I25: =+FEBRERO2021!K25 -> 0 | K25: =+I25+J25 -> 0 | L25: =+FEBRERO2021!N25 -> 0 | N25: =+L25+M25 -> 0 | O25: =+FEBRERO2021!Q25 -> 0 | Q25: =+O25+P25 -> 0 | R25: =+H25-K25 -> 0 | S25: =+N25-Q25 -> 0
A26: 2111010407 | B26: PRIMA DE NAVIDAD | C26: 6819479 | H26: =+C26+D26+E26-F26-G26 -> 6819479 | I26: =+FEBRERO2021!K26 -> 0 | J26: 1704869 | K26: =+I26+J26 -> 1704869 | L26: =+FEBRERO2021!N26 -> 0 | M26: 1704869 | N26: =+L26+M26 -> 1704869 | O26: =+FEBRERO2021!Q26 -> 0 | Q26: =+O26+P26 -> 0 | R26: =+H26-K26 -> 5114610 | S26: =+N26-Q26 -> 1704869
A27: 2111010408 | B27: PRIMA DE ANTIGÜEDAD | H27: =+C27+D27+E27-F27-G27 -> 0 | I27: =+FEBRERO2021!K27 -> 0 | K27: =+I27+J27 -> 0 | L27: =+FEBRERO2021!N27 -> 0 | N27: =+L27+M27 -> 0 | O27: =+FEBRERO2021!Q27 -> 0 | Q27: =+O27+P27 -> 0 | R27: =+H27-K27 -> 0 | S27: =+N27-Q27 -> 0
A28: 2111010409 | B28: SUBSIDIO DE ALIMENTACION | H28: =+C28+D28+E28-F28-G28 -> 0 | I28: =+FEBRERO2021!K28 -> 0 | K28: =+I28+J28 -> 0 | L28: =+FEBRERO2021!N28 -> 0 | N28: =+L28+M28 -> 0 | O28: =+FEBRERO2021!Q28 -> 0 | Q28: =+O28+P28 -> 0 | R28: =+H28-K28 -> 0 | S28: =+N28-Q28 -> 0
A29: 2111010410 | B29: AUXILIO DE TRANSPORTE | H29: =+C29+D29+E29-F29-G29 -> 0 | I29: =+FEBRERO2021!K29 -> 0 | K29: =+I29+J29 -> 0 | L29: =+FEBRERO2021!N29 -> 0 | N29: =+L29+M29 -> 0 | O29: =+FEBRERO2021!Q29 -> 0 | Q29: =+O29+P29 -> 0 | R29: =+H29-K29 -> 0 | S29: =+N29-Q29 -> 0
A30: 2111010411 | B30: SUELDO 15% | H30: =+C30+D30+E30-F30-G30 -> 0 | I30: =+FEBRERO2021!K30 -> 0 | K30: =+I30+J30 -> 0 | L30: =+FEBRERO2021!N30 -> 0 | N30: =+L30+M30 -> 0 | O30: =+FEBRERO2021!Q30 -> 0 | Q30: =+O30+P30 -> 0 | R30: =+H30-K30 -> 0 | S30: =+N30-Q30 -> 0
A31: 2111010412 | B31: FACTORES DE SALARIO | H31: =+C31+D31+E31-F31-G31 -> 0 | I31: =+FEBRERO2021!K31 -> 0 | K31: =+I31+J31 -> 0 | L31: =+FEBRERO2021!N31 -> 0 | N31: =+L31+M31 -> 0 | O31: =+FEBRERO2021!Q31 -> 0 | Q31: =+O31+P31 -> 0 | R31: =+H31-K31 -> 0 | S31: =+N31-Q31 -> 0
A32: 2111010413 | B32: PRIMA DE 35% | H32: =+C32+D32+E32-F32-G32 -> 0 | I32: =+FEBRERO2021!K32 -> 0 | K32: =+I32+J32 -> 0 | L32: =+FEBRERO2021!N32 -> 0 | N32: =+L32+M32 -> 0 | O32: =+FEBRERO2021!Q32 -> 0 | Q32: =+O32+P32 -> 0 | R32: =+H32-K32 -> 0 | S32: =+N32-Q32 -> 0
A33: 2111010414 | B33: OTROS | C33: =+C34 -> 0 | D33: =+D34 -> 0 | E33: =+E34 -> 0 | F33: =+F34 -> 0 | G33: =+G34 -> 0 | H33: =+C33+D33+E33-F33-G33 -> 0 | I33: =+FEBRERO2021!K33 -> 0 | J33: =+J34 -> 0 | K33: =+I33+J33 -> 0 | L33: =+FEBRERO2021!N33 -> 0 | M33: =+M34 -> 0 | N33: =+L33+M33 -> 0 | O33: =+FEBRERO2021!Q33 -> 0 | P33: =+P34 -> 0 | Q33: =+O33+P33 -> 0 | R33: =+H33-K33 -> 0 | S33: =+N33-Q33 -> 0
A34: 211101041401 | B34: DOTACION | H34: =+C34+D34+E34-F34-G34 -> 0 | I34: =+FEBRERO2021!K34 -> 0 | K34: =+I34+J34 -> 0 | L34: =+FEBRERO2021!N34 -> 0 | N34: =+L34+M34 -> 0 | O34: =+FEBRERO2021!Q34 -> 0 | Q34: =+O34+P34 -> 0 | R34: =+H34-K34 -> 0 | S34: =+N34-Q34 -> 0
A35: 211102 | B35: SERVICIOS PERSONALES INDIRECTOS | C35: =SUM(C36:C38) -> 364958624 | D35: =SUM(D36:D38) -> 0 | E35: =SUM(E36:E38) -> 0 | F35: =SUM(F36:F38) -> 0 | G35: =SUM(G36:G38) -> 20604000 | H35: =+C35+D35+E35-F35-G35 -> 344354624 | I35: =+FEBRERO2021!K35 -> 316771312 | J35: =SUM(J36:J38) -> 20500000 | K35: =+I35+J35 -> 337271312 | L35: =+FEBRERO2021!N35 -> 36153104 | M35: =SUM(M36:M38) -> 47938052 | N35: =+L35+M35 -> 84091156 | O35: =+FEBRERO2021!Q35 -> 36153104 | P35: =SUM(P36:P38) -> 47938052 | Q35: =+O35+P35 -> 84091156 | R35: =+H35-K35 -> 7083312 | S35: =+N35-Q35 -> 0
A36: 21110201 | B36: SUPERNUMERARIO | H36: =+C36+D36+E36-F36-G36 -> 0 | I36: =+FEBRERO2021!K36 -> 0 | K36: =+I36+J36 -> 0 | L36: =+FEBRERO2021!N36 -> 0 | N36: =+L36+M36 -> 0 | O36: =+FEBRERO2021!Q36 -> 0 | Q36: =+O36+P36 -> 0 | R36: =+H36-K36 -> 0 | S36: =+N36-Q36 -> 0
A37: 21110202 | B37: REMUNERACION POR SERVICIOS TECNICOS | C37: 114324624 | G37: 14404000 | H37: =+C37+D37+E37-F37-G37 -> 99920624 | I37: =+FEBRERO2021!K37 -> 99402312 | J37: 0 | K37: =+I37+J37 -> 99402312 | L37: =+FEBRERO2021!N37 -> 19054104 | M37: 9527052 | N37: =+L37+M37 -> 28581156 | O37: =+FEBRERO2021!Q37 -> 19054104 | P37: 9527052 | Q37: =+O37+P37 -> 28581156 | R37: =+H37-K37 -> 518312 | S37: =+N37-Q37 -> 0
A38: 21110203 | B38: HONORARIOS | C38: 250634000 | G38: 6200000 | H38: =+C38+D38+E38-F38-G38 -> 244434000 | I38: =+FEBRERO2021!K38 -> 217369000 | J38: 20500000 | K38: =+I38+J38 -> 237869000 | L38: =+FEBRERO2021!N38 -> 17099000 | M38: 38411000 | N38: =+L38+M38 -> 55510000 | O38: =+FEBRERO2021!Q38 -> 17099000 | P38: 38411000 | Q38: =+O38+P38 -> 55510000 | R38: =+H38-K38 -> 6565000 | S38: =+N38-Q38 -> 0
A39: 211103 | B39: CONTRIBUCIONES NOMINA SECTOR PRIVADO | C39: =+C40+C45 -> 9822720 | D39: =+D40+D45 -> 0 | E39: =+E40+E45 -> 0 | F39: =+F40+F45 -> 0 | G39: =+G40+G45 -> 0 | H39: =+C39+D39+E39-F39-G39 -> 9822720 | I39: =+FEBRERO2021!K39 -> 1637120 | J39: =+J40+J45 -> 818560 | K39: =+I39+J39 -> 2455680 | L39: =+FEBRERO2021!N39 -> 818560 | M39: =+M40+M45 -> 1637120 | N39: =+L39+M39 -> 2455680 | O39: =+FEBRERO2021!Q39 -> 818560 | P39: =+P40+P45 -> 1637120 | Q39: =+O39+P39 -> 2455680 | R39: =+H39-K39 -> 7367040 | S39: =+N39-Q39 -> 0
A40: 21110301 | B40: CONTRIBUCIONES NOMINA SECTOR PRIVADO SISTEMA GENERAL DE PARTICIPACIONES | C40: =SUM(C41:C44) -> 0 | D40: =SUM(D41:D44) -> 0 | E40: =SUM(E41:E44) -> 0 | F40: =SUM(F41:F44) -> 0 | G40: =SUM(G41:G44) -> 0 | H40: =+C40+D40+E40-F40-G40 -> 0 | I40: =+FEBRERO2021!K40 -> 0 | J40: =SUM(J41:J44) -> 0 | K40: =+I40+J40 -> 0 | L40: =+FEBRERO2021!N40 -> 0 | M40: =SUM(M41:M44) -> 0 | N40: =+L40+M40 -> 0 | O40: =+FEBRERO2021!Q40 -> 0 | P40: =SUM(P41:P44) -> 0 | Q40: =+O40+P40 -> 0 | R40: =+H40-K40 -> 0 | S40: =+N40-Q40 -> 0 | U40: INICIAL | V40: DEFINITIVO | W40: COMPROMISO | X40: OBLIGACIO | Y40: PAGOS | Z40: C X P | AA40: EJECUTADO 1ER TRIM 2021 | AB40: AP3 1ER TRIM 2021 | AC40: DIFERENCIA
...

Sheet ABRIL2021
A1: DEPARTAMENTO NORTE DE SANTANDER
A2: MUNICIPIO LA PLAYA DE BELEN
A3: ESE HOSPITAL ISABEL CELIS YAÑEZ
A4: EJECUCIÓN PRESUPUESTAL DE GASTOS
A5: MES: ABRIL DE 2021
R6: En Pesos Corrientes
A7: CODIGO | B7: CONCEPTO | C7: PRESUPUESTO | I7: COMPROMISOS | L7: OBLIGACIONES | O7: PAGOS | R7: SALDO PRESUPUEST. | S7: SALDO CTAS X PAGAR
C8: INICIAL | D8: ADICION | F8: REDUCCION | H8: DEFINITIVO | I8: MES ANTER. | J8: DEL MES | K8: TOTAL | L8: MES ANTER. | M8: DEL MES | N8: TOTAL | O8: MES ANTER. | P8: DEL MES | Q8: TOTAL
D9: INGRESO | E9: TRASLADO | F9: REDUCCION | G9: TRASLADO
A10: A | B10: B | C10: C | D10: D | E10: E | H10: F=C+D-E | I10: G | J10: H | K10: I=G+H | L10: J | M10: K | N10: L=J+K | O10: M | P10: N | Q10: O=M+N | R10: P=F-I | S10: Q=L-O
A11: 2 | B11: GASTOS | C11: =+C12+C184+C197+C204+C210 -> 1576096667 | D11: =+D12+D184+D197+D204+D210 -> 3.1620687e+08 | E11: =+E12+E184+E197+E204+E210 -> 26604000 | F11: =+F12+F184+F197+F204+F210 -> 0 | G11: =+G12+G184+G197+G204+G210 -> 26604000 | H11: =+C11+D11+E11-F11-G11 -> 1.8923035e+09 | I11: =+MARZO2021!K11 -> 1.1837558e+09 | J11: =+J12+J184+J197+J204+J210 -> 129674508 | K11: =+I11+J11 -> 1.3134303e+09 | L11: =+MARZO2021!N11 -> 4.724603e+08 | M11: =+M12+M184+M197+M204+M210 -> 80887030 | N11: =+L11+M11 -> 5.5334733e+08 | O11: =+MARZO2021!Q11 -> 4.116981e+08 | P11: =+P12+P184+P197+P204+P210 -> 80887030 | Q11: =+O11+P11 -> 4.9258513e+08 | R11: =+H11-K11 -> 5.7887321e+08 | S11: =+N11-Q11 -> 60762205
A12: 21 | B12: GASTOS DE FUNCIONAMIENTO | C12: =+C13+C120+C173 -> 1406096667 | D12: =+D13+D120+D173 -> 2.5107617e+08 | E12: =+E13+E120+E173 -> 26604000 | F12: =+F13+F120+F173 -> 0 | G12: =+G13+G120+G173 -> 26604000 | H12: =+C12+D12+E12-F12-G12 -> 1.6571728e+09 | I12: =+MARZO2021!K12 -> 1.051587e+09 | J12: =+J13+J120+J173 -> 84674508 | K12: =+I12+J12 -> 1.1362615e+09 | L12: =+MARZO2021!N12 -> 3.8763643e+08 | M12: =+M13+M120+M173 -> 74428230 | N12: =+L12+M12 -> 4.6206466e+08 | O12: =+MARZO2021!Q12 -> 3.2687423e+08 | P12: =+P13+P120+P173 -> 74428230 | Q12: =+O12+P12 -> 4.0130246e+08 | R12: =+H12-K12 -> 5.2091131e+08 | S12: =+N12-Q12 -> 60762205
A13: 211 | B13: GASTOS DE PERSONAL | C13: =+C14+C66 -> 1065286557 | D13: =+D14+D66 -> 1.3424399e+08 | E13: =+E14+E66 -> 25604000 | F13: =+F14+F66 -> 0 | G13: =+G14+G66 -> 20604000 | H13: =+C13+D13+E13-F13-G13 -> 1.2045305e+09 | I13: =+MARZO2021!K13 -> 871378124 | J13: =+J14+J66 -> 49756680 | K13: =+I13+J13 -> 921134804 | L13: =+MARZO2021!N13 -> 292443193 | M13: =+M14+M66 -> 68308052 | N13: =+L13+M13 -> 360751245 | O13: =+MARZO2021!Q13 -> 283602176 | P13: =+P14+P66 -> 68308052 | Q13: =+O13+P13 -> 351910228 | R13: =+H13-K13 -> 2.8339574e+08 | S13: =+N13-Q13 -> 8841017
A14: 2111 | B14: GASTOS DE ADMINISTRACION | C14: =+C15+C35+C39+C51 -> 499866954 | D14: =+D15+D35+D39+D51 -> 0 | E14: =+E15+E35+E39+E51 -> 0 | F14: =+F15+F35+F39+F51 -> 0 | G14: =+G15+G35+G39+G51 -> 20604000 | H14: =+C14+D14+E14-F14-G14 -> 479262954 | I14: =+MARZO2021!K14 -> 370998392 | J14: =+J15+J35+J39+J51 -> 9275320 | K14: =+I14+J14 -> 380273712 | L14: =+MARZO2021!N14 -> 117596604 | M14: =+M15+M35+M39+M51 -> 24807352 | N14: =+L14+M14 -> 142403956 | O14: =+MARZO2021!Q14 -> 111917116 | P14: =+P15+P35+P39+P51 -> 24807352 | Q14: =+O14+P14 -> 136724468 | R14: =+H14-K14 -> 98989242 | S14: =+N14-Q14 -> 5679488
A15: 211101 | B15: SERVICIOS PERSONALES ASOC A LA NOMINA | C15: =+C16+C17+C18+C19 -> 103041789 | D15: =+D16+D17+D18+D19 -> 0 | E15: =+E16+E17+E18+E19 -> 0 | F15: =+F16+F17+F18+F19 -> 0 | G15: =+G16+G17+G18+G19 -> 0 | H15: =+C15+D15+E15-F15-G15 -> 103041789 | I15: =+MARZO2021!K15 -> 25760446 | J15: =+J16+J17+J18+J19 -> 7309300 | K15: =+I15+J15 -> 33069746 | L15: =+MARZO2021!N15 -> 25760446 | M15: =+M16+M17+M18+M19 -> 7309300 | N15: =+L15+M15 -> 33069746 | O15: =+MARZO2021!Q15 -> 21927900 | P15: =+P16+P17+P18+P19 -> 7309300 | Q15: =+O15+P15 -> 29237200 | R15: =+H15-K15 -> 69972043 | S15: =+N15-Q15 -> 3832546
A16: 21110101 | B16: SUELDO | C16: 78560400 | H16: =+C16+D16+E16-F16-G16 -> 78560400 | I16: =+MARZO2021!K16 -> 19640100 | J16: 6546700 | K16: =+I16+J16 -> 26186800 | L16: =+MARZO2021!N16 -> 19640100 | M16: 6546700 | N16: =+L16+M16 -> 26186800 | O16: =+MARZO2021!Q16 -> 19640100 | P16: 6546700 | Q16: =+O16+P16 -> 26186800 | R16: =+H16-K16 -> 52373600 | S16: =+N16-Q16 -> 0
A17: 21110102 | B17: HORAS EXTRAS,FEST-RECARGO NOCTURNO | H17: =+C17+D17+E17-F17-G17 -> 0 | I17: =+MARZO2021!K17 -> 0 | K17: =+I17+J17 -> 0 | L17: =+MARZO2021!N17 -> 0 | N17: =+L17+M17 -> 0 | O17: =+MARZO2021!Q17 -> 0 | Q17: =+O17+P17 -> 0 | R17: =+H17-K17 -> 0 | S17: =+N17-Q17 -> 0
A18: 21110103 | B18: PRIMA TECNICA | H18: =+C18+D18+E18-F18-G18 -> 0 | I18: =+MARZO2021!K18 -> 0 | K18: =+I18+J18 -> 0 | L18: =+MARZO2021!N18 -> 0 | N18: =+L18+M18 -> 0 | O18: =+MARZO2021!Q18 -> 0 | Q18: =+O18+P18 -> 0 | R18: =+H18-K18 -> 0 | S18: =+N18-Q18 -> 0
A19: 21110104 | B19: OTROS | C19: =SUM(C20:C33) -> 24481389 | D19: =SUM(D20:D33) -> 0 | E19: =SUM(E20:E33) -> 0 | F19: =SUM(F20:F33) -> 0 | G19: =SUM(G20:G33) -> 0 | H19: =+C19+D19+E19-F19-G19 -> 24481389 | I19: =+MARZO2021!K19 -> 6120346 | J19: =SUM(J20:J33) -> 762600 | K19: =+I19+J19 -> 6882946 | L19: =+MARZO2021!N19 -> 6120346 | M19: =SUM(M20:M33) -> 762600 | N19: =+L19+M19 -> 6882946 | O19: =+MARZO2021!Q19 -> 2287800 | P19: =SUM(P20:P33) -> 762600 | Q19: =+O19+P19 -> 3050400 | R19: =+H19-K19 -> 17598443 | S19: =+N19-Q19 -> 3832546
A20: 2111010401 | B20: INDEMNIZACION POR VACACIONES | C20: 4800913 | H20: =+C20+D20+E20-F20-G20 -> 4800913 | I20: =+MARZO2021!K20 -> 1200228 | K20: =+I20+J20 -> 1200228 | L20: =+MARZO2021!N20 -> 1200228 | N20: =+L20+M20 -> 1200228 | O20: =+MARZO2021!Q20 -> 0 | Q20: =+O20+P20 -> 0 | R20: =+H20-K20 -> 3600685 | S20: =+N20-Q20 -> 1200228
A21: 2111010402 | B21: GASTOS DE REPRESENTACION | C21: 9151200 | H21: =+C21+D21+E21-F21-G21 -> 9151200 | I21: =+MARZO2021!K21 -> 2287800 | J21: 762600 | K21: =+I21+J21 -> 3050400 | L21: =+MARZO2021!N21 -> 2287800 | M21: 762600 | N21: =+L21+M21 -> 3050400 | O21: =+MARZO2021!Q21 -> 2287800 | P21: 762600 | Q21: =+O21+P21 -> 3050400 | R21: =+H21-K21 -> 6100800 | S21: =+N21-Q21 -> 0
A22: 2111010403 | B22: PRIMA DE VACACIONES | C22: 3273350 | H22: =+C22+D22+E22-F22-G22 -> 3273350 | I22: =+MARZO2021!K22 -> 818337 | K22: =+I22+J22 -> 818337 | L22: =+MARZO2021!N22 -> 818337 | N22: =+L22+M22 -> 818337 | O22: =+MARZO2021!Q22 -> 0 | Q22: =+O22+P22 -> 0 | R22: =+H22-K22 -> 2455013 | S22: =+N22-Q22 -> 818337
A23: 2111010404 | B23: BONIFICACON POR SERVICIOS PRESTADOS | H23: =+C23+D23+E23-F23-G23 -> 0 | I23: =+MARZO2021!K23 -> 0 | K23: =+I23+J23 -> 0 | L23: =+MARZO2021!N23 -> 0 | N23: =+L23+M23 -> 0 | O23: =+MARZO2021!Q23 -> 0 | Q23: =+O23+P23 -> 0 | R23: =+H23-K23 -> 0 | S23: =+N23-Q23 -> 0
A24: 2111010405 | B24: BONIFICACION ESPECIAL POR RECREACION | C24: 436447 | H24: =+C24+D24+E24-F24-G24 -> 436447 | I24: =+MARZO2021!K24 -> 109112 | K24: =+I24+J24 -> 109112 | L24: =+MARZO2021!N24 -> 109112 | N24: =+L24+M24 -> 109112 | O24: =+MARZO2021!Q24 -> 0 | Q24: =+O24+P24 -> 0 | R24: =+H24-K24 -> 327335 | S24: =+N24-Q24 -> 109112
A25: 2111010406 | B25: PRIMA DE SERVICIOS | H25: =+C25+D25+E25-F25-G25 -> 0 | I25: =+MARZO2021!K25 -> 0 | K25: =+I25+J25 -> 0 | L25: =+MARZO2021!N25 -> 0 | N25: =+L25+M25 -> 0 | O25: =+MARZO2021!Q25 -> 0 | Q25: =+O25+P25 -> 0 | R25: =+H25-K25 -> 0 | S25: =+N25-Q25 -> 0
A26: 2111010407 | B26: PRIMA DE NAVIDAD | C26: 6819479 | H26: =+C26+D26+E26-F26-G26 -> 6819479 | I26: =+MARZO2021!K26 -> 1704869 | K26: =+I26+J26 -> 1704869 | L26: =+MARZO2021!N26 -> 1704869 | N26: =+L26+M26 -> 1704869 | O26: =+MARZO2021!Q26 -> 0 | Q26: =+O26+P26 -> 0 | R26: =+H26-K26 -> 5114610 | S26: =+N26-Q26 -> 1704869
A27: 2111010408 | B27: PRIMA DE ANTIGÜEDAD | H27: =+C27+D27+E27-F27-G27 -> 0 | I27: =+MARZO2021!K27 -> 0 | K27: =+I27+J27 -> 0 | L27: =+MARZO2021!N27 -> 0 | N27: =+L27+M27 -> 0 | O27: =+MARZO2021!Q27 -> 0 | Q27: =+O27+P27 -> 0 | R27: =+H27-K27 -> 0 | S27: =+N27-Q27 -> 0
A28: 2111010409 | B28: SUBSIDIO DE ALIMENTACION | H28: =+C28+D28+E28-F28-G28 -> 0 | I28: =+MARZO2021!K28 -> 0 | K28: =+I28+J28 -> 0 | L28: =+MARZO2021!N28 -> 0 | N28: =+L28+M28 -> 0 | O28: =+MARZO2021!Q28 -> 0 | Q28: =+O28+P28 -> 0 | R28: =+H28-K28 -> 0 | S28: =+N28-Q28 -> 0
A29: 2111010410 | B29: AUXILIO DE TRANSPORTE | H29: =+C29+D29+E29-F29-G29 -> 0 | I29: =+MARZO2021!K29 -> 0 | K29: =+I29+J29 -> 0 | L29: =+MARZO2021!N29 -> 0 | N29: =+L29+M29 -> 0 | O29: =+MARZO2021!Q29 -> 0 | Q29: =+O29+P29 -> 0 | R29: =+H29-K29 -> 0 | S29: =+N29-Q29 -> 0
A30: 2111010411 | B30: SUELDO 15% | H30: =+C30+D30+E30-F30-G30 -> 0 | I30: =+MARZO2021!K30 -> 0 | K30: =+I30+J30 -> 0 | L30: =+MARZO2021!N30 -> 0 | N30: =+L30+M30 -> 0 | O30: =+MARZO2021!Q30 -> 0 | Q30: =+O30+P30 -> 0 | R30: =+H30-K30 -> 0 | S30: =+N30-Q30 -> 0
A31: 2111010412 | B31: FACTORES DE SALARIO | H31: =+C31+D31+E31-F31-G31 -> 0 | I31: =+MARZO2021!K31 -> 0 | K31: =+I31+J31 -> 0 | L31: =+MARZO2021!N31 -> 0 | N31: =+L31+M31 -> 0 | O31: =+MARZO2021!Q31 -> 0 | Q31: =+O31+P31 -> 0 | R31: =+H31-K31 -> 0 | S31: =+N31-Q31 -> 0
A32: 2111010413 | B32: PRIMA DE 35% | H32: =+C32+D32+E32-F32-G32 -> 0 | I32: =+MARZO2021!K32 -> 0 | K32: =+I32+J32 -> 0 | L32: =+MARZO2021!N32 -> 0 | N32: =+L32+M32 -> 0 | O32: =+MARZO2021!Q32 -> 0 | Q32: =+O32+P32 -> 0 | R32: =+H32-K32 -> 0 | S32: =+N32-Q32 -> 0
A33: 2111010414 | B33: OTROS | C33: =+C34 -> 0 | D33: =+D34 -> 0 | E33: =+E34 -> 0 | F33: =+F34 -> 0 | G33: =+G34 -> 0 | H33: =+C33+D33+E33-F33-G33 -> 0 | I33: =+MARZO2021!K33 -> 0 | J33: =+J34 -> 0 | K33: =+I33+J33 -> 0 | L33: =+MARZO2021!N33 -> 0 | M33: =+M34 -> 0 | N33: =+L33+M33 -> 0 | O33: =+MARZO2021!Q33 -> 0 | P33: =+P34 -> 0 | Q33: =+O33+P33 -> 0 | R33: =+H33-K33 -> 0 | S33: =+N33-Q33 -> 0
A34: 211101041401 | B34: DOTACION | H34: =+C34+D34+E34-F34-G34 -> 0 | I34: =+MARZO2021!K34 -> 0 | K34: =+I34+J34 -> 0 | L34: =+MARZO2021!N34 -> 0 | N34: =+L34+M34 -> 0 | O34: =+MARZO2021!Q34 -> 0 | Q34: =+O34+P34 -> 0 | R34: =+H34-K34 -> 0 | S34: =+N34-Q34 -> 0
A35: 211102 | B35: SERVICIOS PERSONALES INDIRECTOS | C35: =SUM(C36:C38) -> 364958624 | D35: =SUM(D36:D38) -> 0 | E35: =SUM(E36:E38) -> 0 | F35: =SUM(F36:F38) -> 0 | G35: =SUM(G36:G38) -> 20604000 | H35: =+C35+D35+E35-F35-G35 -> 344354624 | I35: =+MARZO2021!K35 -> 337271312 | J35: =SUM(J36:J38) -> 0 | K35: =+I35+J35 -> 337271312 | L35: =+MARZO2021!N35 -> 84091156 | M35: =SUM(M36:M38) -> 17498052 | N35: =+L35+M35 -> 101589208 | O35: =+MARZO2021!Q35 -> 84091156 | P35: =SUM(P36:P38) -> 17498052 | Q35: =+O35+P35 -> 101589208 | R35: =+H35-K35 -> 7083312 | S35: =+N35-Q35 -> 0
A36: 21110201 | B36: SUPERNUMERARIO | H36: =+C36+D36+E36-F36-G36 -> 0 | I36: =+MARZO2021!K36 -> 0 | K36: =+I36+J36 -> 0 | L36: =+MARZO2021!N36 -> 0 | N36: =+L36+M36 -> 0 | O36: =+MARZO2021!Q36 -> 0 | Q36: =+O36+P36 -> 0 | R36: =+H36-K36 -> 0 | S36: =+N36-Q36 -> 0
A37: 21110202 | B37: REMUNERACION POR SERVICIOS TECNICOS | C37: 114324624 | G37: 14404000 | H37: =+C37+D37+E37-F37-G37 -> 99920624 | I37: =+MARZO2021!K37 -> 99402312 | J37: 0 | K37: =+I37+J37 -> 99402312 | L37: =+MARZO2021!N37 -> 28581156 | M37: 9527052 | N37: =+L37+M37 -> 38108208 | O37: =+MARZO2021!Q37 -> 28581156 | P37: 9527052 | Q37: =+O37+P37 -> 38108208 | R37: =+H37-K37 -> 518312 | S37: =+N37-Q37 -> 0
A38: 21110203 | B38: HONORARIOS | C38: 250634000 | G38: 6200000 | H38: =+C38+D38+E38-F38-G38 -> 244434000 | I38: =+MARZO2021!K38 -> 237869000 | J38: 0 | K38: =+I38+J38 -> 237869000 | L38: =+MARZO2021!N38 -> 55510000 | M38: 7971000 | N38: =+L38+M38 -> 63481000 | O38: =+MARZO2021!Q38 -> 55510000 | P38: 7971000 | Q38: =+O38+P38 -> 63481000 | R38: =+H38-K38 -> 6565000 | S38: =+N38-Q38 -> 0
A39: 211103 | B39: CONTRIBUCIONES NOMINA SECTOR PRIVADO | C39: =+C40+C45 -> 9822720 | D39: =+D40+D45 -> 0 | E39: =+E40+E45 -> 0 | F39: =+F40+F45 -> 0 | G39: =+G40+G45 -> 0 | H39: =+C39+D39+E39-F39-G39 -> 9822720 | I39: =+MARZO2021!K39 -> 2455680 | J39: =+J40+J45 -> 818560 | K39: =+I39+J39 -> 3274240 | L39: =+MARZO2021!N39 -> 2455680 | M39: =+M40+M45 -> 0 | N39: =+L39+M39 -> 2455680 | O39: =+MARZO2021!Q39 -> 2455680 | P39: =+P40+P45 -> 0 | Q39: =+O39+P39 -> 2455680 | R39: =+H39-K39 -> 6548480 | S39: =+N39-Q39 -> 0
A40: 21110301 | B40: CONTRIBUCIONES NOMINA SECTOR PRIVADO SISTEMA GENERAL DE PARTICIPACIONES | C40: =SUM(C41:C44) -> 0 | D40: =SUM(D41:D44) -> 0 | E40: =SUM(E41:E44) -> 0 | F40: =SUM(F41:F44) -> 0 | G40: =SUM(G41:G44) -> 0 | H40: =+C40+D40+E40-F40-G40 -> 0 | I40: =+MARZO2021!K40 -> 0 | J40: =SUM(J41:J44) -> 0 | K40: =+I40+J40 -> 0 | L40: =+MARZO2021!N40 -> 0 | M40: =SUM(M41:M44) -> 0 | N40: =+L40+M40 -> 0 | O40: =+MARZO2021!Q40 -> 0 | P40: =SUM(P41:P44) -> 0 | Q40: =+O40+P40 -> 0 | R40: =+H40-K40 -> 0 | S40: =+N40-Q40 -> 0 | U40: INICIAL | V40: DEFINITIVO | W40: COMPROMISO | X40: OBLIGACIO | Y40: PAGOS | Z40: C X P | AA40: EJECUTADO 1ER TRIM 2021 | AB40: AP3 1ER TRIM 2021 | AC40: DIFERENCIA
...

Sheet MAYO2021
A1: DEPARTAMENTO NORTE DE SANTANDER
A2: MUNICIPIO LA PLAYA DE BELEN
A3: ESE HOSPITAL ISABEL CELIS YAÑEZ
A4: EJECUCIÓN PRESUPUESTAL DE GASTOS
A5: MES: MAYO DE 2021
R6: En Pesos Corrientes
A7: CODIGO | B7: CONCEPTO | C7: PRESUPUESTO | I7: COMPROMISOS | L7: OBLIGACIONES | O7: PAGOS | R7: SALDO PRESUPUEST. | S7: SALDO CTAS X PAGAR
C8: INICIAL | D8: ADICION | F8: REDUCCION | H8: DEFINITIVO | I8: MES ANTER. | J8: DEL MES | K8: TOTAL | L8: MES ANTER. | M8: DEL MES | N8: TOTAL | O8: MES ANTER. | P8: DEL MES | Q8: TOTAL
D9: INGRESO | E9: TRASLADO | F9: REDUCCION | G9: TRASLADO
A10: A | B10: B | C10: C | D10: D | E10: E | H10: F=C+D-E | I10: G | J10: H | K10: I=G+H | L10: J | M10: K | N10: L=J+K | O10: M | P10: N | Q10: O=M+N | R10: P=F-I | S10: Q=L-O
A11: 2 | B11: GASTOS | C11: =+C12+C184+C197+C204+C210 -> 1576096667 | D11: =+D12+D184+D197+D204+D210 -> 5.5295787e+08 | E11: =+E12+E184+E197+E204+E210 -> 26604000 | F11: =+F12+F184+F197+F204+F210 -> 0 | G11: =+G12+G184+G197+G204+G210 -> 26604000 | H11: =+C11+D11+E11-F11-G11 -> 2.1290545e+09 | I11: =+ABRIL2021!K11 -> 1.3134303e+09 | J11: =+J12+J184+J197+J204+J210 -> 198266067 | K11: =+I11+J11 -> 1.5116964e+09 | L11: =+ABRIL2021!N11 -> 5.5334733e+08 | M11: =+M12+M184+M197+M204+M210 -> 175175316 | N11: =+L11+M11 -> 7.2852265e+08 | O11: =+ABRIL2021!Q11 -> 4.9258513e+08 | P11: =+P12+P184+P197+P204+P210 -> 175911431 | Q11: =+O11+P11 -> 6.6849656e+08 | R11: =+H11-K11 -> 6.1735814e+08 | S11: =+N11-Q11 -> 60026090 | T11: 42936166 | U11: =+S11-T11 -> 17089924
A12: 21 | B12: GASTOS DE FUNCIONAMIENTO | C12: =+C13+C120+C173 -> 1406096667 | D12: =+D13+D120+D173 -> 4.8193817e+08 | E12: =+E13+E120+E173 -> 26604000 | F12: =+F13+F120+F173 -> 0 | G12: =+G13+G120+G173 -> 26604000 | H12: =+C12+D12+E12-F12-G12 -> 1.8880348e+09 | I12: =+ABRIL2021!K12 -> 1.1362615e+09 | J12: =+J13+J120+J173 -> 182940867 | K12: =+I12+J12 -> 1.3192024e+09 | L12: =+ABRIL2021!N12 -> 4.6206466e+08 | M12: =+M13+M120+M173 -> 149832535 | N12: =+L12+M12 -> 6.118972e+08 | O12: =+ABRIL2021!Q12 -> 4.0130246e+08 | P12: =+P13+P120+P173 -> 150568650 | Q12: =+O12+P12 -> 5.5187111e+08 | R12: =+H12-K12 -> 5.6883244e+08 | S12: =+N12-Q12 -> 60026090
A13: 211 | B13: GASTOS DE PERSONAL | C13: =+C14+C66 -> 1065286557 | D13: =+D14+D66 -> 2.7835499e+08 | E13: =+E14+E66 -> 25604000 | F13: =+F14+F66 -> 0 | G13: =+G14+G66 -> 20604000 | H13: =+C13+D13+E13-F13-G13 -> 1.3486415e+09 | I13: =+ABRIL2021!K13 -> 921134804 | J13: =+J14+J66 -> 147342680 | K13: =+I13+J13 -> 1068477484 | L13: =+ABRIL2021!N13 -> 360751245 | M13: =+M14+M66 -> 120710836 | N13: =+L13+M13 -> 481462081 | O13: =+ABRIL2021!Q13 -> 351910228 | P13: =+P14+P66 -> 121446951 | Q13: =+O13+P13 -> 473357179 | R13: =+H13-K13 -> 2.8016406e+08 | S13: =+N13-Q13 -> 8104902
A14: 2111 | B14: GASTOS DE ADMINISTRACION | C14: =+C15+C35+C39+C51 -> 499866954 | D14: =+D15+D35+D39+D51 -> 0 | E14: =+E15+E35+E39+E51 -> 0 | F14: =+F15+F35+F39+F51 -> 0 | G14: =+G15+G35+G39+G51 -> 20604000 | H14: =+C14+D14+E14-F14-G14 -> 479262954 | I14: =+ABRIL2021!K14 -> 380273712 | J14: =+J15+J35+J39+J51 -> 10975320 | K14: =+I14+J14 -> 391249032 | L14: =+ABRIL2021!N14 -> 142403956 | M14: =+M15+M35+M39+M51 -> 50199392 | N14: =+L14+M14 -> 192603348 | O14: =+ABRIL2021!Q14 -> 136724468 | P14: =+P15+P35+P39+P51 -> 50199392 | Q14: =+O14+P14 -> 186923860 | R14: =+H14-K14 -> 88013922 | S14: =+N14-Q14 -> 5679488
A15: 211101 | B15: SERVICIOS PERSONALES ASOC A LA NOMINA | C15: =+C16+C17+C18+C19 -> 103041789 | D15: =+D16+D17+D18+D19 -> 0 | E15: =+E16+E17+E18+E19 -> 0 | F15: =+F16+F17+F18+F19 -> 0 | G15: =+G16+G17+G18+G19 -> 0 | H15: =+C15+D15+E15-F15-G15 -> 103041789 | I15: =+ABRIL2021!K15 -> 33069746 | J15: =+J16+J17+J18+J19 -> 7309300 | K15: =+I15+J15 -> 40379046 | L15: =+ABRIL2021!N15 -> 33069746 | M15: =+M16+M17+M18+M19 -> 7309300 | N15: =+L15+M15 -> 40379046 | O15: =+ABRIL2021!Q15 -> 29237200 | P15: =+P16+P17+P18+P19 -> 7309300 | Q15: =+O15+P15 -> 36546500 | R15: =+H15-K15 -> 62662743 | S15: =+N15-Q15 -> 3832546
A16: 21110101 | B16: SUELDO | C16: 78560400 | H16: =+C16+D16+E16-F16-G16 -> 78560400 | I16: =+ABRIL2021!K16 -> 26186800 | J16: 6546700 | K16: =+I16+J16 -> 32733500 | L16: =+ABRIL2021!N16 -> 26186800 | M16: 6546700 | N16: =+L16+M16 -> 32733500 | O16: =+ABRIL2021!Q16 -> 26186800 | P16: 6546700 | Q16: =+O16+P16 -> 32733500 | R16: =+H16-K16 -> 45826900 | S16: =+N16-Q16 -> 0
A17: 21110102 | B17: HORAS EXTRAS,FEST-RECARGO NOCTURNO | H17: =+C17+D17+E17-F17-G17 -> 0 | I17: =+ABRIL2021!K17 -> 0 | K17: =+I17+J17 -> 0 | L17: =+ABRIL2021!N17 -> 0 | N17: =+L17+M17 -> 0 | O17: =+ABRIL2021!Q17 -> 0 | Q17: =+O17+P17 -> 0 | R17: =+H17-K17 -> 0 | S17: =+N17-Q17 -> 0
A18: 21110103 | B18: PRIMA TECNICA | H18: =+C18+D18+E18-F18-G18 -> 0 | I18: =+ABRIL2021!K18 -> 0 | K18: =+I18+J18 -> 0 | L18: =+ABRIL2021!N18 -> 0 | N18: =+L18+M18 -> 0 | O18: =+ABRIL2021!Q18 -> 0 | Q18: =+O18+P18 -> 0 | R18: =+H18-K18 -> 0 | S18: =+N18-Q18 -> 0
A19: 21110104 | B19: OTROS | C19: =SUM(C20:C33) -> 24481389 | D19: =SUM(D20:D33) -> 0 | E19: =SUM(E20:E33) -> 0 | F19: =SUM(F20:F33) -> 0 | G19: =SUM(G20:G33) -> 0 | H19: =+C19+D19+E19-F19-G19 -> 24481389 | I19: =+ABRIL2021!K19 -> 6882946 | J19: =SUM(J20:J33) -> 762600 | K19: =+I19+J19 -> 7645546 | L19: =+ABRIL2021!N19 -> 6882946 | M19: =SUM(M20:M33) -> 762600 | N19: =+L19+M19 -> 7645546 | O19: =+ABRIL2021!Q19 -> 3050400 | P19: =SUM(P20:P33) -> 762600 | Q19: =+O19+P19 -> 3813000 | R19: =+H19-K19 -> 16835843 | S19: =+N19-Q19 -> 3832546
A20: 2111010401 | B20: INDEMNIZACION POR VACACIONES | C20: 4800913 | H20: =+C20+D20+E20-F20-G20 -> 4800913 | I20: =+ABRIL2021!K20 -> 1200228 | K20: =+I20+J20 -> 1200228 | L20: =+ABRIL2021!N20 -> 1200228 | N20: =+L20+M20 -> 1200228 | O20: =+ABRIL2021!Q20 -> 0 | Q20: =+O20+P20 -> 0 | R20: =+H20-K20 -> 3600685 | S20: =+N20-Q20 -> 1200228
A21: 2111010402 | B21: GASTOS DE REPRESENTACION | C21: 9151200 | H21: =+C21+D21+E21-F21-G21 -> 9151200 | I21: =+ABRIL2021!K21 -> 3050400 | J21: 762600 | K21: =+I21+J21 -> 3813000 | L21: =+ABRIL2021!N21 -> 3050400 | M21: 762600 | N21: =+L21+M21 -> 3813000 | O21: =+ABRIL2021!Q21 -> 3050400 | P21: 762600 | Q21: =+O21+P21 -> 3813000 | R21: =+H21-K21 -> 5338200 | S21: =+N21-Q21 -> 0
A22: 2111010403 | B22: PRIMA DE VACACIONES | C22: 3273350 | H22: =+C22+D22+E22-F22-G22 -> 3273350 | I22: =+ABRIL2021!K22 -> 818337 | K22: =+I22+J22 -> 818337 | L22: =+ABRIL2021!N22 -> 818337 | N22: =+L22+M22 -> 818337 | O22: =+ABRIL2021!Q22 -> 0 | Q22: =+O22+P22 -> 0 | R22: =+H22-K22 -> 2455013 | S22: =+N22-Q22 -> 818337
A23: 2111010404 | B23: BONIFICACON POR SERVICIOS PRESTADOS | H23: =+C23+D23+E23-F23-G23 -> 0 | I23: =+ABRIL2021!K23 -> 0 | K23: =+I23+J23 -> 0 | L23: =+ABRIL2021!N23 -> 0 | N23: =+L23+M23 -> 0 | O23: =+ABRIL2021!Q23 -> 0 | Q23: =+O23+P23 -> 0 | R23: =+H23-K23 -> 0 | S23: =+N23-Q23 -> 0
A24: 2111010405 | B24: BONIFICACION ESPECIAL POR RECREACION | C24: 436447 | H24: =+C24+D24+E24-F24-G24 -> 436447 | I24: =+ABRIL2021!K24 -> 109112 | K24: =+I24+J24 -> 109112 | L24: =+ABRIL2021!N24 -> 109112 | N24: =+L24+M24 -> 109112 | O24: =+ABRIL2021!Q24 -> 0 | Q24: =+O24+P24 -> 0 | R24: =+H24-K24 -> 327335 | S24: =+N24-Q24 -> 109112
A25: 2111010406 | B25: PRIMA DE SERVICIOS | H25: =+C25+D25+E25-F25-G25 -> 0 | I25: =+ABRIL2021!K25 -> 0 | K25: =+I25+J25 -> 0 | L25: =+ABRIL2021!N25 -> 0 | N25: =+L25+M25 -> 0 | O25: =+ABRIL2021!Q25 -> 0 | Q25: =+O25+P25 -> 0 | R25: =+H25-K25 -> 0 | S25: =+N25-Q25 -> 0
A26: 2111010407 | B26: PRIMA DE NAVIDAD | C26: 6819479 | H26: =+C26+D26+E26-F26-G26 -> 6819479 | I26: =+ABRIL2021!K26 -> 1704869 | K26: =+I26+J26 -> 1704869 | L26: =+ABRIL2021!N26 -> 1704869 | N26: =+L26+M26 -> 1704869 | O26: =+ABRIL2021!Q26 -> 0 | Q26: =+O26+P26 -> 0 | R26: =+H26-K26 -> 5114610 | S26: =+N26-Q26 -> 1704869
A27: 2111010408 | B27: PRIMA DE ANTIGÜEDAD | H27: =+C27+D27+E27-F27-G27 -> 0 | I27: =+ABRIL2021!K27 -> 0 | K27: =+I27+J27 -> 0 | L27: =+ABRIL2021!N27 -> 0 | N27: =+L27+M27 -> 0 | O27: =+ABRIL2021!Q27 -> 0 | Q27: =+O27+P27 -> 0 | R27: =+H27-K27 -> 0 | S27: =+N27-Q27 -> 0
A28: 2111010409 | B28: SUBSIDIO DE ALIMENTACION | H28: =+C28+D28+E28-F28-G28 -> 0 | I28: =+ABRIL2021!K28 -> 0 | K28: =+I28+J28 -> 0 | L28: =+ABRIL2021!N28 -> 0 | N28: =+L28+M28 -> 0 | O28: =+ABRIL2021!Q28 -> 0 | Q28: =+O28+P28 -> 0 | R28: =+H28-K28 -> 0 | S28: =+N28-Q28 -> 0
A29: 2111010410 | B29: AUXILIO DE TRANSPORTE | H29: =+C29+D29+E29-F29-G29 -> 0 | I29: =+ABRIL2021!K29 -> 0 | K29: =+I29+J29 -> 0 | L29: =+ABRIL2021!N29 -> 0 | N29: =+L29+M29 -> 0 | O29: =+ABRIL2021!Q29 -> 0 | Q29: =+O29+P29 -> 0 | R29: =+H29-K29 -> 0 | S29: =+N29-Q29 -> 0
A30: 2111010411 | B30: SUELDO 15% | H30: =+C30+D30+E30-F30-G30 -> 0 | I30: =+ABRIL2021!K30 -> 0 | K30: =+I30+J30 -> 0 | L30: =+ABRIL2021!N30 -> 0 | N30: =+L30+M30 -> 0 | O30: =+ABRIL2021!Q30 -> 0 | Q30: =+O30+P30 -> 0 | R30: =+H30-K30 -> 0 | S30: =+N30-Q30 -> 0
A31: 2111010412 | B31: FACTORES DE SALARIO | H31: =+C31+D31+E31-F31-G31 -> 0 | I31: =+ABRIL2021!K31 -> 0 | K31: =+I31+J31 -> 0 | L31: =+ABRIL2021!N31 -> 0 | N31: =+L31+M31 -> 0 | O31: =+ABRIL2021!Q31 -> 0 | Q31: =+O31+P31 -> 0 | R31: =+H31-K31 -> 0 | S31: =+N31-Q31 -> 0
A32: 2111010413 | B32: PRIMA DE 35% | H32: =+C32+D32+E32-F32-G32 -> 0 | I32: =+ABRIL2021!K32 -> 0 | K32: =+I32+J32 -> 0 | L32: =+ABRIL2021!N32 -> 0 | N32: =+L32+M32 -> 0 | O32: =+ABRIL2021!Q32 -> 0 | Q32: =+O32+P32 -> 0 | R32: =+H32-K32 -> 0 | S32: =+N32-Q32 -> 0
A33: 2111010414 | B33: OTROS | C33: =+C34 -> 0 | D33: =+D34 -> 0 | E33: =+E34 -> 0 | F33: =+F34 -> 0 | G33: =+G34 -> 0 | H33: =+C33+D33+E33-F33-G33 -> 0 | I33: =+ABRIL2021!K33 -> 0 | J33: =+J34 -> 0 | K33: =+I33+J33 -> 0 | L33: =+ABRIL2021!N33 -> 0 | M33: =+M34 -> 0 | N33: =+L33+M33 -> 0 | O33: =+ABRIL2021!Q33 -> 0 | P33: =+P34 -> 0 | Q33: =+O33+P33 -> 0 | R33: =+H33-K33 -> 0 | S33: =+N33-Q33 -> 0
A34: 211101041401 | B34: DOTACION | H34: =+C34+D34+E34-F34-G34 -> 0 | I34: =+ABRIL2021!K34 -> 0 | K34: =+I34+J34 -> 0 | L34: =+ABRIL2021!N34 -> 0 | N34: =+L34+M34 -> 0 | O34: =+ABRIL2021!Q34 -> 0 | Q34: =+O34+P34 -> 0 | R34: =+H34-K34 -> 0 | S34: =+N34-Q34 -> 0
A35: 211102 | B35: SERVICIOS PERSONALES INDIRECTOS | C35: =SUM(C36:C38) -> 364958624 | D35: =SUM(D36:D38) -> 0 | E35: =SUM(E36:E38) -> 0 | F35: =SUM(F36:F38) -> 0 | G35: =SUM(G36:G38) -> 20604000 | H35: =+C35+D35+E35-F35-G35 -> 344354624 | I35: =+ABRIL2021!K35 -> 337271312 | J35: =SUM(J36:J38) -> 1700000 | K35: =+I35+J35 -> 338971312 | L35: =+ABRIL2021!N35 -> 101589208 | M35: =SUM(M36:M38) -> 38958052 | N35: =+L35+M35 -> 140547260 | O35: =+ABRIL2021!Q35 -> 101589208 | P35: =SUM(P36:P38) -> 38958052 | Q35: =+O35+P35 -> 140547260 | R35: =+H35-K35 -> 5383312 | S35: =+N35-Q35 -> 0
A36: 21110201 | B36: SUPERNUMERARIO | H36: =+C36+D36+E36-F36-G36 -> 0 | I36: =+ABRIL2021!K36 -> 0 | K36: =+I36+J36 -> 0 | L36: =+ABRIL2021!N36 -> 0 | N36: =+L36+M36 -> 0 | O36: =+ABRIL2021!Q36 -> 0 | Q36: =+O36+P36 -> 0 | R36: =+H36-K36 -> 0 | S36: =+N36-Q36 -> 0
A37: 21110202 | B37: REMUNERACION POR SERVICIOS TECNICOS | C37: 114324624 | G37: 14404000 | H37: =+C37+D37+E37-F37-G37 -> 99920624 | I37: =+ABRIL2021!K37 -> 99402312 | J37: 0 | K37: =+I37+J37 -> 99402312 | L37: =+ABRIL2021!N37 -> 38108208 | M37: 9527052 | N37: =+L37+M37 -> 47635260 | O37: =+ABRIL2021!Q37 -> 38108208 | P37: 9527052 | Q37: =+O37+P37 -> 47635260 | R37: =+H37-K37 -> 518312 | S37: =+N37-Q37 -> 0
A38: 21110203 | B38: HONORARIOS | C38: 250634000 | G38: 6200000 | H38: =+C38+D38+E38-F38-G38 -> 244434000 | I38: =+ABRIL2021!K38 -> 237869000 | J38: 1700000 | K38: =+I38+J38 -> 239569000 | L38: =+ABRIL2021!N38 -> 63481000 | M38: 29431000 | N38: =+L38+M38 -> 92912000 | O38: =+ABRIL2021!Q38 -> 63481000 | P38: 29431000 | Q38: =+O38+P38 -> 92912000 | R38: =+H38-K38 -> 4865000 | S38: =+N38-Q38 -> 0
